BEGIN:VCALENDAR
VERSION:2.0
PRODID:-//Tauchclub Korneuburg - ECPv6.0.8//NONSGML v1.0//EN
CALSCALE:GREGORIAN
METHOD:PUBLISH
X-ORIGINAL-URL:https://www.ko-divers.at
X-WR-CALDESC:Veranstaltungen für Tauchclub Korneuburg
REFRESH-INTERVAL;VALUE=DURATION:PT1H
X-Robots-Tag:noindex
X-PUBLISHED-TTL:PT1H
BEGIN:VTIMEZONE
TZID:Europe/Vienna
BEGIN:DAYLIGHT
TZOFFSETFROM:+0100
TZOFFSETTO:+0200
TZNAME:CEST
DTSTART:20230326T010000
END:DAYLIGHT
BEGIN:STANDARD
TZOFFSETFROM:+0200
TZOFFSETTO:+0100
TZNAME:CET
DTSTART:20231029T010000
END:STANDARD
BEGIN:DAYLIGHT
TZOFFSETFROM:+0100
TZOFFSETTO:+0200
TZNAME:CEST
DTSTART:20240331T010000
END:DAYLIGHT
BEGIN:STANDARD
TZOFFSETFROM:+0200
TZOFFSETTO:+0100
TZNAME:CET
DTSTART:20241027T010000
END:STANDARD
BEGIN:DAYLIGHT
TZOFFSETFROM:+0100
TZOFFSETTO:+0200
TZNAME:CEST
DTSTART:20250330T010000
END:DAYLIGHT
BEGIN:STANDARD
TZOFFSETFROM:+0200
TZOFFSETTO:+0100
TZNAME:CET
DTSTART:20251026T010000
END:STANDARD
END:VTIMEZONE
BEGIN:VEVENT
DTSTART;TZID=Europe/Vienna:20230913T193000
DTEND;TZID=Europe/Vienna:20230913T213000
DTSTAMP:20260420T182550
CREATED:20230102T152149Z
LAST-MODIFIED:20230912T144512Z
UID:2762-1694633400-1694640600@www.ko-divers.at
SUMMARY:Tauchclubabend
DESCRIPTION:
URL:https://www.ko-divers.at/event/tauchclubabend-50/
LOCATION:Gwölb\, Hauptplatz 20\, Korneuburg\, 2100\, Österreich
END:VEVENT
BEGIN:VEVENT
DTSTART;TZID=Europe/Vienna:20240221T193000
DTEND;TZID=Europe/Vienna:20240221T223000
DTSTAMP:20260420T182550
CREATED:20240104T074903Z
LAST-MODIFIED:20240207T102504Z
UID:2969-1708543800-1708554600@www.ko-divers.at
SUMMARY:Tauchclubabend
DESCRIPTION:
URL:https://www.ko-divers.at/event/tauchclubabend-53/
LOCATION:Gwölb\, Hauptplatz 20\, Korneuburg\, 2100\, Österreich
END:VEVENT
BEGIN:VEVENT
DTSTART;TZID=Europe/Vienna:20240313T193000
DTEND;TZID=Europe/Vienna:20240313T223000
DTSTAMP:20260420T182550
CREATED:20240104T075136Z
LAST-MODIFIED:20240225T084033Z
UID:2974-1710358200-1710369000@www.ko-divers.at
SUMMARY:Tauchclubabend
DESCRIPTION:
URL:https://www.ko-divers.at/event/tauchclubabend-54/
LOCATION:Gwölb\, Hauptplatz 20\, Korneuburg\, 2100\, Österreich
END:VEVENT
BEGIN:VEVENT
DTSTART;TZID=Europe/Vienna:20240410T193000
DTEND;TZID=Europe/Vienna:20240410T223000
DTSTAMP:20260420T182550
CREATED:20240104T075209Z
LAST-MODIFIED:20240314T102854Z
UID:2976-1712777400-1712788200@www.ko-divers.at
SUMMARY:Tauchclubabend
DESCRIPTION:
URL:https://www.ko-divers.at/event/tauchclubabend-55/
LOCATION:Gwölb\, Hauptplatz 20\, Korneuburg\, 2100\, Österreich
END:VEVENT
BEGIN:VEVENT
DTSTART;TZID=Europe/Vienna:20240515T193000
DTEND;TZID=Europe/Vienna:20240515T223000
DTSTAMP:20260420T182550
CREATED:20240104T075459Z
LAST-MODIFIED:20240503T093432Z
UID:2980-1715801400-1715812200@www.ko-divers.at
SUMMARY:Tauchclubabend
DESCRIPTION:
URL:https://www.ko-divers.at/event/tauchclubabend-56/
LOCATION:Gwölb\, Hauptplatz 20\, Korneuburg\, 2100\, Österreich
END:VEVENT
BEGIN:VEVENT
DTSTART;TZID=Europe/Vienna:20240710T193000
DTEND;TZID=Europe/Vienna:20240710T213000
DTSTAMP:20260420T182550
CREATED:20240104T075616Z
LAST-MODIFIED:20240622T100045Z
UID:2984-1720639800-1720647000@www.ko-divers.at
SUMMARY:Tauchclubabend
DESCRIPTION:
URL:https://www.ko-divers.at/event/tauchclubabend-58/
LOCATION:Gwölb\, Hauptplatz 20\, Korneuburg\, 2100\, Österreich
END:VEVENT
BEGIN:VEVENT
DTSTART;TZID=Europe/Vienna:20240821T193000
DTEND;TZID=Europe/Vienna:20240821T223000
DTSTAMP:20260420T182550
CREATED:20240104T075655Z
LAST-MODIFIED:20240820T101252Z
UID:2986-1724268600-1724279400@www.ko-divers.at
SUMMARY:Tauchclubabend
DESCRIPTION:Wir haben von den neuen Tauchclub Leiberl je ein Stk je Größe und das für Männlein und Weiblein zum probieren mit.
URL:https://www.ko-divers.at/event/tauchclubabend-59/
LOCATION:Gwölb\, Hauptplatz 20\, Korneuburg\, 2100\, Österreich
ATTACH;FMTTYPE=image/jpeg:https://www.ko-divers.at/wp-content/uploads/2024/01/leiberl.jpg
END:VEVENT
BEGIN:VEVENT
DTSTART;TZID=Europe/Vienna:20240911T193000
DTEND;TZID=Europe/Vienna:20240911T223000
DTSTAMP:20260420T182550
CREATED:20240104T075736Z
LAST-MODIFIED:20240911T045119Z
UID:2988-1726083000-1726093800@www.ko-divers.at
SUMMARY:Tauchclubabend
DESCRIPTION:Die neuen Tauchclubleiberl zum Probieren und Bestellen sind da!
URL:https://www.ko-divers.at/event/tauchclubabend-60/
LOCATION:Gwölb\, Hauptplatz 20\, Korneuburg\, 2100\, Österreich
END:VEVENT
BEGIN:VEVENT
DTSTART;TZID=Europe/Vienna:20241016T193000
DTEND;TZID=Europe/Vienna:20241016T223000
DTSTAMP:20260420T182550
CREATED:20240104T075915Z
LAST-MODIFIED:20241007T113524Z
UID:2990-1729107000-1729117800@www.ko-divers.at
SUMMARY:Tauchclubabend
DESCRIPTION:Wir treffen uns im Keller und die bestellten Tauchclubleiberl sind da. Und es können die letzten Details unseres Tauchausfluges zum Traunsee geklärt werden.
URL:https://www.ko-divers.at/event/tauchclubabend-61/
LOCATION:Gwölb\, Hauptplatz 20\, Korneuburg\, 2100\, Österreich
END:VEVENT
BEGIN:VEVENT
DTSTART;TZID=Europe/Vienna:20241113T193000
DTEND;TZID=Europe/Vienna:20241113T223000
DTSTAMP:20260420T182550
CREATED:20240104T075951Z
LAST-MODIFIED:20241106T104532Z
UID:2992-1731526200-1731537000@www.ko-divers.at
SUMMARY:Tauchclubabend
DESCRIPTION:
URL:https://www.ko-divers.at/event/tauchclubabend-62/
LOCATION:Gwölb\, Hauptplatz 20\, Korneuburg\, 2100\, Österreich
END:VEVENT
BEGIN:VEVENT
DTSTART;TZID=Europe/Vienna:20241211T193000
DTEND;TZID=Europe/Vienna:20241211T223000
DTSTAMP:20260420T182550
CREATED:20240104T080105Z
LAST-MODIFIED:20241106T104602Z
UID:2994-1733945400-1733956200@www.ko-divers.at
SUMMARY:Tauchclubweihnachtspunsch
DESCRIPTION:
URL:https://www.ko-divers.at/event/tauchclubweihnachtspunsch-5/
LOCATION:Gwölb\, Hauptplatz 20\, Korneuburg\, 2100\, Österreich
END:VEVENT
BEGIN:VEVENT
DTSTART;TZID=Europe/Vienna:20250115T193000
DTEND;TZID=Europe/Vienna:20250115T223000
DTSTAMP:20260420T182550
CREATED:20240104T080258Z
LAST-MODIFIED:20241227T075335Z
UID:2996-1736969400-1736980200@www.ko-divers.at
SUMMARY:Jahreshauptversammlung
DESCRIPTION:Tagesordnung: \nBegrüßung\nBeschluss der Tagesordnung\nBericht des Kassier\nBericht des Obmanns „Das war 2024“\nEntlastung des Vorstandes für 2024\nNeuwahl des Vorstandes für die Periode 2025 – 2029\nVorschau auf die Aktivitäten 2025\nAllfälliges
URL:https://www.ko-divers.at/event/jahreshauptversammlung-4/
LOCATION:Gwölb\, Hauptplatz 20\, Korneuburg\, 2100\, Österreich
END:VEVENT
BEGIN:VEVENT
DTSTART;TZID=Europe/Vienna:20250212T193000
DTEND;TZID=Europe/Vienna:20250212T223000
DTSTAMP:20260420T182550
CREATED:20250104T130933Z
LAST-MODIFIED:20250122T171631Z
UID:3225-1739388600-1739399400@www.ko-divers.at
SUMMARY:Tauchclubabend
DESCRIPTION:
URL:https://www.ko-divers.at/event/tauchclubabend-63/
LOCATION:Gwölb\, Hauptplatz 20\, Korneuburg\, 2100\, Österreich
END:VEVENT
BEGIN:VEVENT
DTSTART;TZID=Europe/Vienna:20250319T193000
DTEND;TZID=Europe/Vienna:20250319T223000
DTSTAMP:20260420T182550
CREATED:20250104T144100Z
LAST-MODIFIED:20250220T125836Z
UID:3231-1742412600-1742423400@www.ko-divers.at
SUMMARY:Tauchclubabnend
DESCRIPTION:
URL:https://www.ko-divers.at/event/tauchclubabnend/
LOCATION:Gwölb\, Hauptplatz 20\, Korneuburg\, 2100\, Österreich
END:VEVENT
BEGIN:VEVENT
DTSTART;TZID=Europe/Vienna:20250423T193000
DTEND;TZID=Europe/Vienna:20250423T223000
DTSTAMP:20260420T182550
CREATED:20250104T144314Z
LAST-MODIFIED:20250415T103801Z
UID:3233-1745436600-1745447400@www.ko-divers.at
SUMMARY:Tauchclubabend
DESCRIPTION:Wir haben in der Laube reserviert.
URL:https://www.ko-divers.at/event/tauchclubabend-64/
LOCATION:Gwölb\, Hauptplatz 20\, Korneuburg\, 2100\, Österreich
END:VEVENT
BEGIN:VEVENT
DTSTART;TZID=Europe/Vienna:20250514T193000
DTEND;TZID=Europe/Vienna:20250514T223000
DTSTAMP:20260420T182550
CREATED:20250104T144951Z
LAST-MODIFIED:20250511T171639Z
UID:3237-1747251000-1747261800@www.ko-divers.at
SUMMARY:Tauchclubabend
DESCRIPTION:
URL:https://www.ko-divers.at/event/tauchclubabend-65/
LOCATION:Gwölb\, Hauptplatz 20\, Korneuburg\, 2100\, Österreich
END:VEVENT
END:VCALENDAR