BEGIN:VCALENDAR
VERSION:2.0
PRODID:-//Tauchclub Korneuburg - ECPv6.0.8//NONSGML v1.0//EN
CALSCALE:GREGORIAN
METHOD:PUBLISH
X-WR-CALNAME:Tauchclub Korneuburg
X-ORIGINAL-URL:https://www.ko-divers.at
X-WR-CALDESC:Veranstaltungen für Tauchclub Korneuburg
REFRESH-INTERVAL;VALUE=DURATION:PT1H
X-Robots-Tag:noindex
X-PUBLISHED-TTL:PT1H
BEGIN:VTIMEZONE
TZID:Europe/Vienna
BEGIN:DAYLIGHT
TZOFFSETFROM:+0100
TZOFFSETTO:+0200
TZNAME:CEST
DTSTART:20200329T010000
END:DAYLIGHT
BEGIN:STANDARD
TZOFFSETFROM:+0200
TZOFFSETTO:+0100
TZNAME:CET
DTSTART:20201025T010000
END:STANDARD
BEGIN:DAYLIGHT
TZOFFSETFROM:+0100
TZOFFSETTO:+0200
TZNAME:CEST
DTSTART:20210328T010000
END:DAYLIGHT
BEGIN:STANDARD
TZOFFSETFROM:+0200
TZOFFSETTO:+0100
TZNAME:CET
DTSTART:20211031T010000
END:STANDARD
BEGIN:DAYLIGHT
TZOFFSETFROM:+0100
TZOFFSETTO:+0200
TZNAME:CEST
DTSTART:20220327T010000
END:DAYLIGHT
BEGIN:STANDARD
TZOFFSETFROM:+0200
TZOFFSETTO:+0100
TZNAME:CET
DTSTART:20221030T010000
END:STANDARD
BEGIN:DAYLIGHT
TZOFFSETFROM:+0100
TZOFFSETTO:+0200
TZNAME:CEST
DTSTART:20230326T010000
END:DAYLIGHT
BEGIN:STANDARD
TZOFFSETFROM:+0200
TZOFFSETTO:+0100
TZNAME:CET
DTSTART:20231029T010000
END:STANDARD
BEGIN:DAYLIGHT
TZOFFSETFROM:+0100
TZOFFSETTO:+0200
TZNAME:CEST
DTSTART:20240331T010000
END:DAYLIGHT
BEGIN:STANDARD
TZOFFSETFROM:+0200
TZOFFSETTO:+0100
TZNAME:CET
DTSTART:20241027T010000
END:STANDARD
BEGIN:DAYLIGHT
TZOFFSETFROM:+0100
TZOFFSETTO:+0200
TZNAME:CEST
DTSTART:20250330T010000
END:DAYLIGHT
BEGIN:STANDARD
TZOFFSETFROM:+0200
TZOFFSETTO:+0100
TZNAME:CET
DTSTART:20251026T010000
END:STANDARD
END:VTIMEZONE
BEGIN:VEVENT
DTSTART;TZID=Europe/Vienna:20200307T123000
DTEND;TZID=Europe/Vienna:20200307T180000
DTSTAMP:20260420T105738
CREATED:20191228T143403Z
LAST-MODIFIED:20191228T143533Z
UID:1935-1583584200-1583604000@www.ko-divers.at
SUMMARY:Messebesuch BOOT TULLN
DESCRIPTION:
URL:https://www.ko-divers.at/event/messebesuch-boot-tulln/
LOCATION:Messe Tulln\, Messegelände 1\, Tulln\, Niederösterreich\, 3430\, Österreich
END:VEVENT
BEGIN:VEVENT
DTSTART;TZID=Europe/Vienna:20220305T100000
DTEND;TZID=Europe/Vienna:20220305T190000
DTSTAMP:20260420T105738
CREATED:20220108T094658Z
LAST-MODIFIED:20220124T172518Z
UID:2499-1646474400-1646506800@www.ko-divers.at
SUMMARY:Besuch der Boot Tulln (abgesagt)
DESCRIPTION:Die Boot Tulln wurde leider abgesagt. 2023 soll sie wieder stattfinden.
URL:https://www.ko-divers.at/event/besuch-der-boot-tulln/
LOCATION:Messe Tulln\, Messegelände 1\, Tulln\, Niederösterreich\, 3430\, Österreich
END:VEVENT
BEGIN:VEVENT
DTSTART;TZID=Europe/Vienna:20240302T100000
DTEND;TZID=Europe/Vienna:20240302T190000
DTSTAMP:20260420T105738
CREATED:20240104T075047Z
LAST-MODIFIED:20240104T075047Z
UID:2972-1709373600-1709406000@www.ko-divers.at
SUMMARY:Besuch der Boot Tulln
DESCRIPTION:Wir besuchen die Tauchmesse im Rahmen der Boot Tulln.
URL:https://www.ko-divers.at/event/besuch-der-boot-tulln-3/
LOCATION:Messe Tulln\, Messegelände 1\, Tulln\, Niederösterreich\, 3430\, Österreich
END:VEVENT
BEGIN:VEVENT
DTSTART;TZID=Europe/Vienna:20250308T100000
DTEND;TZID=Europe/Vienna:20250308T180000
DTSTAMP:20260420T105738
CREATED:20250104T131444Z
LAST-MODIFIED:20250104T152401Z
UID:3227-1741428000-1741456800@www.ko-divers.at
SUMMARY:Besuch der Austrian BoatShow
DESCRIPTION:Wir besuchen die Tauchhalle (Halle 8) bei der Austrian BoatShow in Tulln.\n\nErmäßigungsbon: https://www.messe-tulln.at/…/kontak…/ermaessigungsbon-1/\nhttps://www.messe-tulln.at/…/austrian-boat-show-boot…/
URL:https://www.ko-divers.at/event/besuch-der-austrian-boatshow/
LOCATION:Messe Tulln\, Messegelände 1\, Tulln\, Niederösterreich\, 3430\, Österreich
END:VEVENT
END:VCALENDAR